BEGIN:VCALENDAR
VERSION:2.0
PRODID:-//Indigo Tribe Wellness - ECPv6.15.20//NONSGML v1.0//EN
CALSCALE:GREGORIAN
METHOD:PUBLISH
X-ORIGINAL-URL:https://indigotribeyoga.com
X-WR-CALDESC:Events for Indigo Tribe Wellness
REFRESH-INTERVAL;VALUE=DURATION:PT1H
X-Robots-Tag:noindex
X-PUBLISHED-TTL:PT1H
BEGIN:VTIMEZONE
TZID:America/New_York
BEGIN:DAYLIGHT
TZOFFSETFROM:-0500
TZOFFSETTO:-0400
TZNAME:EDT
DTSTART:20240310T070000
END:DAYLIGHT
BEGIN:STANDARD
TZOFFSETFROM:-0400
TZOFFSETTO:-0500
TZNAME:EST
DTSTART:20241103T060000
END:STANDARD
BEGIN:DAYLIGHT
TZOFFSETFROM:-0500
TZOFFSETTO:-0400
TZNAME:EDT
DTSTART:20250309T070000
END:DAYLIGHT
BEGIN:STANDARD
TZOFFSETFROM:-0400
TZOFFSETTO:-0500
TZNAME:EST
DTSTART:20251102T060000
END:STANDARD
BEGIN:DAYLIGHT
TZOFFSETFROM:-0500
TZOFFSETTO:-0400
TZNAME:EDT
DTSTART:20260308T070000
END:DAYLIGHT
BEGIN:STANDARD
TZOFFSETFROM:-0400
TZOFFSETTO:-0500
TZNAME:EST
DTSTART:20261101T060000
END:STANDARD
END:VTIMEZONE
BEGIN:VEVENT
DTSTART;TZID=America/New_York:20251231T080000
DTEND;TZID=America/New_York:20251231T170000
DTSTAMP:20260420T040737
CREATED:20251223T071724Z
LAST-MODIFIED:20251223T082125Z
UID:10000007-1767168000-1767200400@indigotribeyoga.com
SUMMARY:Full Moon Sound Bath Journey
DESCRIPTION:Immerse yourself in the healing vibrations of crystal singing bowls\, gongs\, and chimes. This deeply restorative experience supports release\, relaxation\, and energetic balance.
URL:https://indigotribeyoga.com/events/breathwork-workshops/
CATEGORIES:Sound Bath Events
ATTACH;FMTTYPE=image/jpeg:https://indigotribeyoga.com/wp-content/uploads/2025/12/GettyImages-2229757013-scaled.jpg
END:VEVENT
BEGIN:VEVENT
DTSTART;TZID=America/New_York:20251223T080000
DTEND;TZID=America/New_York:20251223T170000
DTSTAMP:20260420T040737
CREATED:20251223T081002Z
LAST-MODIFIED:20251223T090831Z
UID:10000011-1766476800-1766509200@indigotribeyoga.com
SUMMARY:Candlelit Yin and Sound Bath
DESCRIPTION:An evening practice combining restorative yin yoga with live sound healing. Unwind and restore in a calming\, candlelit atmosphere.
URL:https://indigotribeyoga.com/events/candlelit-yin-and-sound-bath/
CATEGORIES:Seasonal and Special Events
ATTACH;FMTTYPE=image/jpeg:https://indigotribeyoga.com/wp-content/uploads/2025/12/GettyImages-2181080529-scaled.jpg
END:VEVENT
BEGIN:VEVENT
DTSTART;TZID=America/New_York:20251223T080000
DTEND;TZID=America/New_York:20251223T170000
DTSTAMP:20260420T040737
CREATED:20251223T080917Z
LAST-MODIFIED:20251223T090137Z
UID:10000010-1766476800-1766509200@indigotribeyoga.com
SUMMARY:Ashtanga Primary Series Deep Dive
DESCRIPTION:Explore the complete Ashtanga Primary Series with detailed instruction\, thoughtful modifications\, and philosophical context. Open to all levels.
URL:https://indigotribeyoga.com/events/ashtanga-primary-series-deep-dive/
CATEGORIES:Specialized Yoga Workshops
ATTACH;FMTTYPE=image/jpeg:https://indigotribeyoga.com/wp-content/uploads/2025/12/GettyImages-2241741841-scaled.jpg
END:VEVENT
BEGIN:VEVENT
DTSTART;TZID=America/New_York:20251223T080000
DTEND;TZID=America/New_York:20251223T170000
DTSTAMP:20260420T040737
CREATED:20251223T080840Z
LAST-MODIFIED:20251223T090636Z
UID:10000009-1766476800-1766509200@indigotribeyoga.com
SUMMARY:Introduction to Meditation Workshop
DESCRIPTION:Learn foundational meditation practices designed to reduce stress and cultivate inner calm. Ideal for beginners and those seeking to deepen their meditation practice.
URL:https://indigotribeyoga.com/events/introduction-to-meditation-workshop/
CATEGORIES:Meditation Intensives
ATTACH;FMTTYPE=image/jpeg:https://indigotribeyoga.com/wp-content/uploads/2025/12/GettyImages-2180058883-scaled.jpg
END:VEVENT
BEGIN:VEVENT
DTSTART;TZID=America/New_York:20251223T080000
DTEND;TZID=America/New_York:20251223T170000
DTSTAMP:20260420T040737
CREATED:20251223T080758Z
LAST-MODIFIED:20251223T090629Z
UID:10000008-1766476800-1766509200@indigotribeyoga.com
SUMMARY:Transformational Breathwork Session
DESCRIPTION:Release stored tension and expand awareness through guided breathing techniques. This session supports clarity\, emotional release\, and renewed energy.
URL:https://indigotribeyoga.com/events/transformational-breathwork-session/
CATEGORIES:Breathwork Workshops
ATTACH;FMTTYPE=image/jpeg:https://indigotribeyoga.com/wp-content/uploads/2025/12/GettyImages-2193834032-scaled.jpg
END:VEVENT
END:VCALENDAR